BEGIN:VCALENDAR
VERSION:2.0
PRODID:-//Archéologie et modélisme d'Arsenal (Angleur - Wallonie - Belgique
  - Europe )//NONSGML kigkonsult.se iCalcreator 2.30.10//
CALSCALE:GREGORIAN
METHOD:PUBLISH
UID:f8c08a57-9d12-43dd-9d13-7850fdba9001
X-WR-CALNAME:iCagenda
X-WR-CALDESC:Event Management Extension for Joomla!
X-WR-RELCALID:3E26604A-50F4-4449-8B3E-E4F4932D05B5
X-WR-TIMEZONE:Europe/Brussels
BEGIN:VTIMEZONE
TZID:Europe/Brussels
BEGIN:STANDARD
TZNAME:CET
DTSTART:20241027T030000
TZOFFSETFROM:+0200
TZOFFSETTO:+0100
RDATE:20251026T030000
END:STANDARD
BEGIN:DAYLIGHT
TZNAME:CEST
DTSTART:20240331T020000
TZOFFSETFROM:+0100
TZOFFSETTO:+0200
RDATE:20250330T020000
RDATE:20260329T020000
END:DAYLIGHT
END:VTIMEZONE
BEGIN:VEVENT
UID:f02c182b-0b38-4b5b-b9db-9189f4c94310
DTSTAMP:20260424T145638Z
CATEGORIES:Ateliers : Stages & Apprentissage
CLASS:PUBLIC
DESCRIPTION:
DTSTART:20250322T080000Z
DTEND:20250322T123000Z
GEO:00;0
LOCATION:
ORGANIZER:
SEQUENCE:1
SUMMARY:Atelier 3
TRANSP:OPAQUE
URL:https://2026.amarsenal.be/association/agenda/150-atelier-3
END:VEVENT
END:VCALENDAR
