BEGIN:VCALENDAR
VERSION:2.0
PRODID:-//Archéologie et modélisme d'Arsenal (Angleur - Wallonie - Belgique
  - Europe )//NONSGML kigkonsult.se iCalcreator 2.30.10//
CALSCALE:GREGORIAN
METHOD:PUBLISH
UID:796066c8-647d-4129-a1ad-3cd5c4e8d900
X-WR-CALNAME:iCagenda
X-WR-CALDESC:Event Management Extension for Joomla!
X-WR-RELCALID:3E26604A-50F4-4449-8B3E-E4F4932D05B5
X-WR-TIMEZONE:Europe/Brussels
BEGIN:VTIMEZONE
TZID:Europe/Brussels
BEGIN:STANDARD
TZNAME:CET
DTSTART:20241027T030000
TZOFFSETFROM:+0200
TZOFFSETTO:+0100
RDATE:20251026T030000
RDATE:20261025T030000
END:STANDARD
BEGIN:DAYLIGHT
TZNAME:CEST
DTSTART:20250330T020000
TZOFFSETFROM:+0100
TZOFFSETTO:+0200
RDATE:20260329T020000
RDATE:20270328T020000
END:DAYLIGHT
END:VTIMEZONE
BEGIN:VEVENT
UID:10d7ffa8-4cbd-439e-88be-2225848836ed
DTSTAMP:20260424T145719Z
CATEGORIES:Réunions membres
CLASS:PUBLIC
DESCRIPTION:
DTSTART:20250927T120000Z
DTEND:20250927T160000Z
GEO:00;0
LOCATION:
ORGANIZER:
SEQUENCE:1
SUMMARY:Réunion  8
TRANSP:OPAQUE
URL:https://2026.amarsenal.be/association/agenda/166-reunion-8
END:VEVENT
END:VCALENDAR
