BEGIN:VCALENDAR
VERSION:2.0
PRODID:-//Archéologie et modélisme d'Arsenal (Angleur - Wallonie - Belgique
  - Europe )//NONSGML kigkonsult.se iCalcreator 2.30.10//
CALSCALE:GREGORIAN
METHOD:PUBLISH
UID:3529f7fe-938f-4f05-a376-7f458384e99e
X-WR-CALNAME:iCagenda
X-WR-CALDESC:Event Management Extension for Joomla!
X-WR-RELCALID:3E26604A-50F4-4449-8B3E-E4F4932D05B5
X-WR-TIMEZONE:Europe/Brussels
BEGIN:VTIMEZONE
TZID:Europe/Brussels
BEGIN:STANDARD
TZNAME:CET
DTSTART:20241027T030000
TZOFFSETFROM:+0200
TZOFFSETTO:+0100
RDATE:20251026T030000
RDATE:20261025T030000
END:STANDARD
BEGIN:DAYLIGHT
TZNAME:CEST
DTSTART:20250330T020000
TZOFFSETFROM:+0100
TZOFFSETTO:+0200
RDATE:20260329T020000
RDATE:20270328T020000
END:DAYLIGHT
END:VTIMEZONE
BEGIN:VEVENT
UID:5ffc27ba-134f-4ec6-a0d1-af1ef6fa6a62
DTSTAMP:20260424T145638Z
CATEGORIES:Réunions membres
CLASS:PUBLIC
DESCRIPTION:
DTSTART:20251024T220000Z
DTEND:20251024T220000Z
GEO:00;0
LOCATION:
ORGANIZER:
SEQUENCE:1
SUMMARY:Souper annuel
TRANSP:OPAQUE
URL:https://2026.amarsenal.be/association/agenda/169-souper-annuel
END:VEVENT
END:VCALENDAR
